
BEGIN:VCALENDAR
VERSION:2.0
PRODID:-//prolipsi - ECPv6.15.20//NONSGML v1.0//EN
CALSCALE:GREGORIAN
METHOD:PUBLISH
X-WR-CALNAME:prolipsi
X-ORIGINAL-URL:https://prolipsi.be
X-WR-CALDESC:Évènements pour prolipsi
REFRESH-INTERVAL;VALUE=DURATION:PT1H
X-Robots-Tag:noindex
X-PUBLISHED-TTL:PT1H
BEGIN:VTIMEZONE
TZID:Europe/Brussels
BEGIN:DAYLIGHT
TZOFFSETFROM:+0100
TZOFFSETTO:+0200
TZNAME:CEST
DTSTART:20230326T010000
END:DAYLIGHT
BEGIN:STANDARD
TZOFFSETFROM:+0200
TZOFFSETTO:+0100
TZNAME:CET
DTSTART:20231029T010000
END:STANDARD
BEGIN:DAYLIGHT
TZOFFSETFROM:+0100
TZOFFSETTO:+0200
TZNAME:CEST
DTSTART:20240331T010000
END:DAYLIGHT
BEGIN:STANDARD
TZOFFSETFROM:+0200
TZOFFSETTO:+0100
TZNAME:CET
DTSTART:20241027T010000
END:STANDARD
BEGIN:DAYLIGHT
TZOFFSETFROM:+0100
TZOFFSETTO:+0200
TZNAME:CEST
DTSTART:20250330T010000
END:DAYLIGHT
BEGIN:STANDARD
TZOFFSETFROM:+0200
TZOFFSETTO:+0100
TZNAME:CET
DTSTART:20251026T010000
END:STANDARD
END:VTIMEZONE
BEGIN:VEVENT
DTSTART;TZID=Europe/Brussels:20241017T090000
DTEND;TZID=Europe/Brussels:20241017T170000
DTSTAMP:20260421T060230
CREATED:20240507T170053Z
LAST-MODIFIED:20240522T073346Z
UID:10000037-1729155600-1729184400@prolipsi.be
SUMMARY:Règlement Machines
DESCRIPTION:Prolipsi® vous propose une journée de recyclage pour les conseillers en prévention autour du nouveau Règlement « Machines ».À cette journée exceptionnelle\, un expert présentera la nouvelle législation relative aux machines et ses nouvelles exigences harmonisées qui sont applicables pour garantir un niveau élevé de sécurité à la fois pour les travailleurs mais également pour les citoyens européens.À coup sûr\, une activité à ne pas manquer.\nOrdre du jour : \n\nAprès un bref rappel sur la hiérarchie des normes juridiques et leurs particularités\, les participants auront l’occasion de découvrir le nouveau Règlement Machines qui actualise la Directive du même nom (2006).\nAu travers des exemples concrets\, Pierre abordera les particularités du Règlement et mettra en évidence les évolutions.\n\nObjectifs poursuivis : \n\nComprendre le Règlement Machines.\nEchanger les points de vue sur les bonnes pratiques vécues et/ou à développer. Trucs et astuces ;\nPasser une bonne journée ! 😊\n\nMéthodologie : \nL’approche recherchée est participative\, pluridisciplinaire avec des intervenants praticiens. \nCette formation suit l’actualité\, fait appel aux personnes ressources compétentes. Les rythmes et les modes d’apprentissage s’adaptent au public et aux circonstances. Prolipsi propose\, selon les thématiques et situations\, des exercices\, des mises en situations\, des discussions\, des interactions. \nPublic cible : conseiller en prévention\, membre de la ligne hiérarchique\, travailleur\, représentant des travailleurs\, … \nModalités pratiques : \n\nLieu de la formation : Château de Courrière | Rue Bâtis de Corère 6 | 5336 ASSESSE\nAccès parking (gratuit)\nHoraire: 09h00 à 17h00 (accueil dès 08h30)\nRepas: inclus\n\nN’hésitez pas à vous inscrire et à nous contacter pour en savoir plus sur nos offres de formations car …Il n’y a pas de hasard\, il n’y a que des rendez-vous. \n\n\n 
URL:https://prolipsi.be/evenement/reglement-machines/
LOCATION:Château de Courrière\, Rue Bâtis 6\, Assesse\, 5336\, Belgique
CATEGORIES:recyclage CP
ATTACH;FMTTYPE=image/png:https://prolipsi.be/wp-content/uploads/2024/05/20241017-RECY-CP-NEW-REG-MACHINES-2-SANS-DATE-1.png
ORGANIZER;CN="Prolipsi":MAILTO:info@prolipsi.be
END:VEVENT
BEGIN:VEVENT
DTSTART;TZID=Europe/Brussels:20241018T090000
DTEND;TZID=Europe/Brussels:20241018T170000
DTSTAMP:20260421T060230
CREATED:20240513T153916Z
LAST-MODIFIED:20240901T131633Z
UID:10000046-1729242000-1729270800@prolipsi.be
SUMMARY:ATEX pour Conseiller en prévention
DESCRIPTION:Prolipsi® vous propose une journée de recyclage pour les conseillers en prévention autour de l’ATEX avec une vision centrée Conseiller en prévention. \nUn de nos experts – pratiquant abordera avec vous les atmosphères explosives et mettra l’accent sur une lecture « CP ». \nIl sera question notamment de comprendre ce qu’est une explosion (GAZ\, POUSSIERE)\, à partir de quand on parle d’ATEX et\, à partir de là\, ce qu’il convient de prendre comme action\, à la fois du point CP et de l’entreprise. \nOrdre du jour : \n\nAprès un rappel sur sur la réglementation ATEX\, l’expert vous présentera\, toutes les subtilités à connaître en tant que conseiller en prévention pour pouvoir mieux aborder l’atmosphère explosive et de pouvoir encore mieux réaliser ses missions et ses tâches de Conseiller en prévention.\nAu travers des exemples concrets\, il sera abordé les particularités des différentes situations que l’on peut rencontrer dans différents types d’industries et de situations de travail.\n\nObjectifs poursuivis : \n\nComprendre l’ATEX et savoir quelles sont ses missions dans le cadre de l’ATEX.\nEchanger les points de vue sur les bonnes pratiques vécues et/ou à développer. Trucs et astuces ;\nPasser une bonne journée ! 😊\n\nMéthodologie : \nL’approche recherchée est participative\, pluridisciplinaire avec des intervenants praticiens. \nCette formation suit l’actualité\, fait appel aux personnes ressources compétentes. Les rythmes et les modes d’apprentissage s’adaptent au public et aux circonstances. Prolipsi propose\, selon les thématiques et situations\, des exercices\, des mises en situations\, des discussions\, des interactions. \nPublic cible : conseiller en prévention\, personne de confiance\, membre de la ligne hiérarchique\, travailleur\, représentant des travailleurs\, … \nModalités pratiques : \n\nPrix: 385 € HTVA\nLieu de la formation : Château de Courrière | Rue Bâtis de Corère 6 | 5336 ASSESSE\nAccès parking (gratuit)\nHoraire: 09h00 à 17h00 (accueil dès 08h30)\nRepas: inclus
URL:https://prolipsi.be/evenement/atex_cp/
LOCATION:Château de Courrière\, Rue Bâtis 6\, Assesse\, 5336\, Belgique
CATEGORIES:recyclage CP
ATTACH;FMTTYPE=image/png:https://prolipsi.be/wp-content/uploads/2024/05/IMAGE-ATEX-POUR-CP.png
ORGANIZER;CN="Prolipsi":MAILTO:info@prolipsi.be
END:VEVENT
BEGIN:VEVENT
DTSTART;TZID=Europe/Brussels:20241024T090000
DTEND;TZID=Europe/Brussels:20241024T170000
DTSTAMP:20260421T060230
CREATED:20231017T090622Z
LAST-MODIFIED:20240830T073534Z
UID:10000027-1729760400-1729789200@prolipsi.be
SUMMARY:Gestion des urgences en entreprise
DESCRIPTION:Prolipsi® vous propose une journée de recyclage pour les conseillers en prévention autour de la gestion des urgences en entreprise \nÀ cette journée exceptionnelle\, plusieurs experts partageront leurs expériences en matière de gestion des urgences et mettront à disposition des participants des outils pour pouvoir y faire face. \nÀ coup sûr\, une activité à ne pas manquer. \nOrdre du jour : \n\nAprès un bref rappel sur la obligations et droits de l’employeur et des travailleurs en matière de bien-être\, un focus sera fait sur la planification d’urgence.\nAu travers des exemples concrets\, les experts aborderont les particularités de situations vécues et les réponses qui ont pu/auraient dû être apportées\n\nObjectifs poursuivis : \n\nDévelopper sa capacité d’analyse pour mieux faire face à des situations d’Urgence au départ d’une situation réelle et procéder de manière structurée à la monter en puissance dans le cas l’activation de plans d’urgence.\nDécouvrir une approche pragmatique pour la gestion des situations courantes mais pas que…\nEchanger les points de vue sur les bonnes pratiques vécues et/ou à développer. Trucs et astuces ;\nPasser une bonne journée ! 😊\n\nMéthodologie : \nL’approche recherchée est participative\, pluridisciplinaire avec des intervenants praticiens. \nCette formation suit l’actualité\, fait appel aux personnes ressources compétentes. Les rythmes et les modes d’apprentissage s’adaptent au public et aux circonstances. Prolipsi propose\, selon les thématiques et situations\, des exercices\, des mises en situations\, des discussions\, des interactions. \nPublic cible : conseiller en prévention\, personne de confiance\, membre de la ligne hiérarchique\, travailleur\, représentant des travailleurs\, Coordinateur PlanU… \nModalités pratiques : \n\nPrix: 385 € HTVA\nLieu de la formation : Château de Courrière | Rue Bâtis de Corère 6 | 5336 ASSESSE\nAccès parking (gratuit) \nHoraire: 09h00 à 17h00 (accueil dès 08h30)\nRepas: inclus\n\nN’hésitez pas à vous inscrire et à nous contacter pour en savoir plus sur nos offres de formations car …Il n’y a pas de hasard\, il n’y a que des rendez-vous. \n 
URL:https://prolipsi.be/evenement/gestion-des-urgences-en-entreprise/
LOCATION:Chateau de Courrière\, Rue Bâtis de Corère 6\, Assesse\, 5336\, Belgique
CATEGORIES:recyclage CP
ATTACH;FMTTYPE=image/png:https://prolipsi.be/wp-content/uploads/2024/08/IMAGE-GESTION-DES-URGENCES.png
ORGANIZER;CN="Prolipsi":MAILTO:info@prolipsi.be
END:VEVENT
END:VCALENDAR