
BEGIN:VCALENDAR
VERSION:2.0
PRODID:-//prolipsi - ECPv6.15.20//NONSGML v1.0//EN
CALSCALE:GREGORIAN
METHOD:PUBLISH
X-WR-CALNAME:prolipsi
X-ORIGINAL-URL:https://prolipsi.be
X-WR-CALDESC:Évènements pour prolipsi
REFRESH-INTERVAL;VALUE=DURATION:PT1H
X-Robots-Tag:noindex
X-PUBLISHED-TTL:PT1H
BEGIN:VTIMEZONE
TZID:Europe/Brussels
BEGIN:DAYLIGHT
TZOFFSETFROM:+0100
TZOFFSETTO:+0200
TZNAME:CEST
DTSTART:20240331T010000
END:DAYLIGHT
BEGIN:STANDARD
TZOFFSETFROM:+0200
TZOFFSETTO:+0100
TZNAME:CET
DTSTART:20241027T010000
END:STANDARD
BEGIN:DAYLIGHT
TZOFFSETFROM:+0100
TZOFFSETTO:+0200
TZNAME:CEST
DTSTART:20250330T010000
END:DAYLIGHT
BEGIN:STANDARD
TZOFFSETFROM:+0200
TZOFFSETTO:+0100
TZNAME:CET
DTSTART:20251026T010000
END:STANDARD
BEGIN:DAYLIGHT
TZOFFSETFROM:+0100
TZOFFSETTO:+0200
TZNAME:CEST
DTSTART:20260329T010000
END:DAYLIGHT
BEGIN:STANDARD
TZOFFSETFROM:+0200
TZOFFSETTO:+0100
TZNAME:CET
DTSTART:20261025T010000
END:STANDARD
END:VTIMEZONE
BEGIN:VEVENT
DTSTART;TZID=Europe/Brussels:20250213T090000
DTEND;TZID=Europe/Brussels:20250213T170000
DTSTAMP:20260420T232237
CREATED:20240830T070404Z
LAST-MODIFIED:20241004T095921Z
UID:10000051-1739437200-1739466000@prolipsi.be
SUMMARY:La documentation pour conseiller en prévention
DESCRIPTION:Prolipsi® vous propose une journée de recyclage pour les conseillers en prévention autour de la documentation et des outils nécessaires à notre métiers. \nDurant cette journée\, nous vous proposons de prendre le temps de passer en revue plusieurs thèmes et de la documentation qui y est liée. Chaque thème sera abordé avec la base légale et\, surtout\, complété de nombreux exemples particuliers qui vous permettront de repartir avec les idées claires. \nEn Bref\, du « need to know » mais sans se prendre la tête et traduit dans notre langue de conseiller en prévention\, svp ! \nOrdre du jour : \n\nLes rapports périodiques\nles documents du service interne\nle permis de travail\nles contrôles légaux\nla liste des travailleurs soumis\,\n…\n\nObjectifs poursuivis : \n\nMettre à jour ses connaissances sur ce que l’on doit connaître en terme documentaire\nSavoir quel document est nécessaire et pour quoi.\nPartager des expériences concrètes\nEchanger les points de vue sur les bonnes pratiques vécues et/ou à développer. Trucs et astuces ;\nPasser une bonne journée ! 😊\n\nMéthodologie : \nL’approche recherchée est participative\, pluridisciplinaire avec des intervenants praticiens. \nCette formation fait appel aux personnes ressources compétentes. Les rythmes et les modes d’apprentissage s’adaptent au public et aux circonstances. Prolipsi propose\, selon les thématiques et situations\, des exercices\, des mises en situations\, des discussions… \nPublic cible : conseiller en prévention\, personne de confiance\, membre de la ligne hiérarchique\, travailleur\, représentant des travailleurs\, … \nModalités pratiques : \n\nPrix: 385 € HTVA\nLieu de la formation : Château de Courrière | Rue Bâtis de Corère 6 | 5336 ASSESSE\nAccès parking (gratuit)\nHoraire: 09h00 à 17h00 (accueil dès 08h30)\nRepas: inclus\n\nN’hésitez pas à vous inscrire et à nous contacter pour en savoir plus sur nos offres de formations car …Il n’y a pas de hasard\, il n’y a que des rendez-vous.
URL:https://prolipsi.be/evenement/documentationcp/
LOCATION:Chateau de Courrière\, Rue Bâtis de Corère 6\, Assesse\, 5336\, Belgique
CATEGORIES:recyclage CP
ATTACH;FMTTYPE=image/png:https://prolipsi.be/wp-content/uploads/2024/08/IMAGE-DOCUMENTATION-POUR-CP.png
ORGANIZER;CN="Prolipsi":MAILTO:info@prolipsi.be
END:VEVENT
END:VCALENDAR