
BEGIN:VCALENDAR
VERSION:2.0
PRODID:-//prolipsi - ECPv6.15.20//NONSGML v1.0//EN
CALSCALE:GREGORIAN
METHOD:PUBLISH
X-ORIGINAL-URL:https://prolipsi.be
X-WR-CALDESC:Évènements pour prolipsi
REFRESH-INTERVAL;VALUE=DURATION:PT1H
X-Robots-Tag:noindex
X-PUBLISHED-TTL:PT1H
BEGIN:VTIMEZONE
TZID:Europe/Brussels
BEGIN:DAYLIGHT
TZOFFSETFROM:+0100
TZOFFSETTO:+0200
TZNAME:CEST
DTSTART:20240331T010000
END:DAYLIGHT
BEGIN:STANDARD
TZOFFSETFROM:+0200
TZOFFSETTO:+0100
TZNAME:CET
DTSTART:20241027T010000
END:STANDARD
BEGIN:DAYLIGHT
TZOFFSETFROM:+0100
TZOFFSETTO:+0200
TZNAME:CEST
DTSTART:20250330T010000
END:DAYLIGHT
BEGIN:STANDARD
TZOFFSETFROM:+0200
TZOFFSETTO:+0100
TZNAME:CET
DTSTART:20251026T010000
END:STANDARD
BEGIN:DAYLIGHT
TZOFFSETFROM:+0100
TZOFFSETTO:+0200
TZNAME:CEST
DTSTART:20260329T010000
END:DAYLIGHT
BEGIN:STANDARD
TZOFFSETFROM:+0200
TZOFFSETTO:+0100
TZNAME:CET
DTSTART:20261025T010000
END:STANDARD
END:VTIMEZONE
BEGIN:VEVENT
DTSTART;TZID=Europe/Brussels:20250408T090000
DTEND;TZID=Europe/Brussels:20250408T170000
DTSTAMP:20260420T200200
CREATED:20240901T140915Z
LAST-MODIFIED:20241004T095333Z
UID:10000052-1744102800-1744131600@prolipsi.be
SUMMARY:Safety Culture Ladder
DESCRIPTION:Prolipsi® vous propose une journée de recyclage pour les conseillers en prévention autour de la culture sécurité. \nÀ cette journée exceptionnelle\, deux experts d’entreprise ayant implémenté ou s’étant questionnés sur cette problématique essentielle nous accompagneront durant cet évènement pour partager leurs connaissances et expériences en la matière. \nJacques-René GUILLAUME (TOTALEnergies Professeurs Associés) et Thierry JACQMIN (ELIA) nous parlerons de la reconnaissance comme levier de motivation et du référentiel Safety Culture Ladder. \nÀ coup sûr\, une activité à ne pas manquer. \nOrdre du jour : \n\nExposé sur le référentiel Safety Culture Ladder avec ses enjeux\, limites\, avantages et inconvénients.\nLe pouvoir de la reconnaissance comme levier de motivation : comment bien faire les choses pour en retirer le meilleur ?\nPartage d’expérience de Jacques-René et Thierry\n\nObjectifs poursuivis : \n\nComprendre le référentiel avec les étapes à suivre\, les exigences.\nDessiner les contours du positionnement du référentiel actuellement.\nPartager des expériences concrètes\nComprendre la force de la reconnaissance pour faire changer les comportements.\nEchanger les points de vue sur les bonnes pratiques vécues et/ou à développer. Trucs et astuces ;\nPasser une bonne journée ! 😊\n\nMéthodologie : \nL’approche recherchée est participative\, pluridisciplinaire avec des intervenants praticiens. \nCette formation fait appel aux personnes ressources compétentes. Les rythmes et les modes d’apprentissage s’adaptent au public et aux circonstances. Prolipsi propose\, selon les thématiques et situations\, des exercices\, des mises en situations\, des discussions… \nPublic cible : conseiller en prévention\, personne de confiance\, membre de la ligne hiérarchique\, travailleur\, représentant des travailleurs\, … \nModalités pratiques : \n\nPrix: 385 € HTVA\nLieu de la formation : Château de Courrière | Rue Bâtis de Corère 6 | 5336 ASSESSE\nAccès parking (gratuit)\nHoraire: 09h00 à 17h00 (accueil dès 08h30)\nRepas: inclus\n\nN’hésitez pas à vous inscrire et à nous contacter pour en savoir plus sur nos offres de formations car …Il n’y a pas de hasard\, il n’y a que des rendez-vous.
URL:https://prolipsi.be/evenement/safety-culture-ladder/
LOCATION:Chateau de Courrière\, Rue Bâtis de Corère 6\, Assesse\, 5336\, Belgique
CATEGORIES:recyclage CP
ATTACH;FMTTYPE=image/png:https://prolipsi.be/wp-content/uploads/2024/08/IMAGE-SCL-MOTIVATION-POUR-CP.png
ORGANIZER;CN="Prolipsi":MAILTO:info@prolipsi.be
END:VEVENT
BEGIN:VEVENT
DTSTART;TZID=Europe/Brussels:20250410T090000
DTEND;TZID=Europe/Brussels:20250410T170000
DTSTAMP:20260420T200200
CREATED:20240901T151820Z
LAST-MODIFIED:20241004T094200Z
UID:10000054-1744275600-1744304400@prolipsi.be
SUMMARY:AMIANTE pour Conseiller en prévention
DESCRIPTION:Prolipsi® vous propose une journée de recyclage pour les conseillers en prévention autour de l’AMIANTE et les fibres cancérigènes avec une vision centrée Conseiller en prévention. \nDidier VASSOLLO\, du SPF Emploi\, Travail\, Concertation sociale\, expert dans ce domaine\, abordera avec vous les tout ce qu’il faut savoir à leur propos es et mettra l’accent sur une lecture « CP ». \nIl sera question notamment de l’évolution de la réglementation et de ce que peut ou doit faire le CP. \nOrdre du jour : \n\nIntroduction : Les fibres cancérigènes – Amiante\nRappel des éléments essentiels de la réglementation et de la littérature.\nEvaluation du risque amiante\nExplications relatives aux modifications de la législation intervenue en 2023\nModification de la Directive européenne\n\nObjectifs poursuivis : \n\nComprendre l’AMIANTE et savoir quelles sont ses missions dans sa gestion\nenvisager d’élargir notre approche sur les autres agresseurs cancérigènes.\nEchanger les points de vue sur les bonnes pratiques vécues et/ou à développer. Trucs et astuces ;\nPasser une bonne journée ! 😊\n\nMéthodologie : \nL’approche recherchée est participative\, pluridisciplinaire avec des intervenants praticiens. \nCette formation suit l’actualité\, fait appel aux personnes ressources compétentes. Les rythmes et les modes d’apprentissage s’adaptent au public et aux circonstances. Prolipsi propose\, selon les thématiques et situations\, des exercices\, des mises en situations\, des discussions\, des interactions. \nPublic cible : conseiller en prévention\, personne de confiance\, membre de la ligne hiérarchique\, travailleur\, représentant des travailleurs\, … \nModalités pratiques : \n\nPrix: 385 € HTVA\nLieu de la formation : Château de Courrière | Rue Bâtis de Corère 6 | 5336 ASSESSE\nAccès parking (gratuit)\nHoraire: 09h00 à 17h00 (accueil dès 08h30)\nRepas: inclus\n\nN’hésitez pas à vous inscrire et à nous contacter pour en savoir plus sur nos offres de formations car …Il n’y a pas de hasard\, il n’y a que des rendez-vous.
URL:https://prolipsi.be/evenement/amiante-pour-conseiller-en-prevention/
LOCATION:Château de Courrière\, Rue Bâtis 6\, Assesse\, 5336\, Belgique
CATEGORIES:recyclage CP
ATTACH;FMTTYPE=image/png:https://prolipsi.be/wp-content/uploads/2024/09/IMAGE-AMIANTE-POUR-CP.png
ORGANIZER;CN="Prolipsi":MAILTO:info@prolipsi.be
END:VEVENT
END:VCALENDAR