
BEGIN:VCALENDAR
VERSION:2.0
PRODID:-//prolipsi - ECPv6.15.20//NONSGML v1.0//EN
CALSCALE:GREGORIAN
METHOD:PUBLISH
X-WR-CALNAME:prolipsi
X-ORIGINAL-URL:https://prolipsi.be
X-WR-CALDESC:Évènements pour prolipsi
REFRESH-INTERVAL;VALUE=DURATION:PT1H
X-Robots-Tag:noindex
X-PUBLISHED-TTL:PT1H
BEGIN:VTIMEZONE
TZID:Europe/Brussels
BEGIN:DAYLIGHT
TZOFFSETFROM:+0100
TZOFFSETTO:+0200
TZNAME:CEST
DTSTART:20250330T010000
END:DAYLIGHT
BEGIN:STANDARD
TZOFFSETFROM:+0200
TZOFFSETTO:+0100
TZNAME:CET
DTSTART:20251026T010000
END:STANDARD
BEGIN:DAYLIGHT
TZOFFSETFROM:+0100
TZOFFSETTO:+0200
TZNAME:CEST
DTSTART:20260329T010000
END:DAYLIGHT
BEGIN:STANDARD
TZOFFSETFROM:+0200
TZOFFSETTO:+0100
TZNAME:CET
DTSTART:20261025T010000
END:STANDARD
BEGIN:DAYLIGHT
TZOFFSETFROM:+0100
TZOFFSETTO:+0200
TZNAME:CEST
DTSTART:20270328T010000
END:DAYLIGHT
BEGIN:STANDARD
TZOFFSETFROM:+0200
TZOFFSETTO:+0100
TZNAME:CET
DTSTART:20271031T010000
END:STANDARD
END:VTIMEZONE
BEGIN:VEVENT
DTSTART;TZID=Europe/Brussels:20260210T090000
DTEND;TZID=Europe/Brussels:20260210T170000
DTSTAMP:20260420T042829
CREATED:20251003T110015Z
LAST-MODIFIED:20251003T110015Z
UID:10000077-1770714000-1770742800@prolipsi.be
SUMMARY:♻️ Formation Recyclage – Analyse de risques et Plans de prévention (Global & Annuel) 
DESCRIPTION:♻️ Formation Recyclage – Analyse de risques et Plans de prévention (Global & Annuel)  – 📊 Une journée pour renforcer vos pratiques en prévention \nProlipsi® vous invite à une journée de recyclage dédiée aux conseillers en prévention et membres de la ligne hiérarchique.\nAu cœur de cette formation\, deux thématiques clés\, indispensables au bon fonctionnement du système dynamique de gestion des risques : \n\n🔎 L’analyse de risques\n🛡️ Les plans de prévention (Global et Annuel)\n\n🎯 Pourquoi participer ?\nParce que ces outils sont l’alpha et l’oméga de notre profession\, cette journée sera l’occasion de : \n✅ Revoir les fondamentaux réglementaires (clairs et pratiques)\n✅ Découvrir ou redécouvrir les incontournables d’un plan global et d’un plan d’action annuel\n✅ S’exercer à partir d’un cas fictif réaliste\n✅ Échanger bonnes pratiques\, astuces et retours d’expérience \n📅 Au programme\n🔹 Matinée \n\nRappel des obligations légales\nAtelier en petits groupes : réalisation d’une analyse de risques à partir d’un cas fictif\n\n🔹 Après-midi \n\nAtelier en petits groupes : élaboration d’un plan global de prévention et d’un plan d’action annuel\nMise en commun et usage de l’outil Safety Scan® (mode test)\nPartages d’expériences et discussion des bonnes pratiques\n\n🎁 Vous repartez avec : \n\n📄 Un modèle de plan modifiable et prêt à l’emploi\n💡 Une vision claire de ce qu’il vous reste à mettre en place\n\n🎯 Objectifs de la journée \n\nPratiquer une analyse de risques\nComprendre la logique et l’intérêt des plans de prévention\nTraduire l’analyse en plan d’actions (PGP – PAA)\nEnrichir vos pratiques grâce aux échanges entre pairs\nVivre une journée constructive\, interactive… et agréable 😃\n\n🧩 Méthodologie\nUne pédagogie participative et concrète\, animée par des conseillers en prévention expérimentés.\n👉 Mises en situation\, exercices pratiques\, discussions et échanges interdisciplinaires.\n👉 Adaptation aux besoins des participants et à l’actualité réglementaire. \nℹ️ Infos pratiques\n📍 Lieu : Château de Courrière – Rue Bâtis de Corère 6 – 5336 Assesse\n🕘 Horaire : 9h00 à 17h00 (accueil dès 8h30)\n💰 Prix : 395 € HTVA\n🥗 Repas inclus – Parking gratuit \n👥 Pour qui ? \n\nConseillers en prévention\nMembres de la ligne hiérarchique\nPersonnes de confiance\nReprésentants des travailleurs\nTout acteur impliqué dans la prévention\, la sécurité\, le bien-être au travail\n\n✍️ Inscription 👉 formulaire ci-dessous\n⚡ Ne tardez pas : chaque journée est une opportunité unique d’apprendre\, d’échanger et de progresser !\n💡 Nous intervenons également dans vos entreprises ou lors de vos Safety Days et formations sur mesure. \n📜 Parce que… « Il n’y a pas de hasard\, il n’y a que des rendez-vous. »
URL:https://prolipsi.be/evenement/%e2%99%bb%ef%b8%8f-formation-recyclage-analyse-de-risques-et-plans-de-prevention-global-annuel/
LOCATION:Château de Courrière\, Rue Bâtis 6\, Assesse\, 5336\, Belgique
CATEGORIES:recyclage CP
ATTACH;FMTTYPE=image/png:https://prolipsi.be/wp-content/uploads/2025/10/20260310_RECY_ARI_PA.png
ORGANIZER;CN="Prolipsi":MAILTO:info@prolipsi.be
END:VEVENT
BEGIN:VEVENT
DTSTART;TZID=Europe/Brussels:20260213T090000
DTEND;TZID=Europe/Brussels:20260213T170000
DTSTAMP:20260420T042829
CREATED:20250702T113454Z
LAST-MODIFIED:20250912T073032Z
UID:10000078-1770973200-1771002000@prolipsi.be
SUMMARY:♻️ 📝Formation Recyclage – Documentation & Outils pour Conseillers en Prévention ✅
DESCRIPTION:♻️ Formation Recyclage – Documentation & Outils pour Conseillers en Prévention \nUne journée pour faire le point\, partager et repartir avec des solutions concrètes ! \nProlipsi® vous invite à une journée dynamique et conviviale de recyclage destinée aux conseillers en prévention (et à tous ceux qui gravitent autour de cette fonction essentielle).\nObjectif : remettre de l’ordre dans la paperasse sans prise de tête\, clarifier ce qu’il faut savoir\, et surtout transformer la théorie en pratique utile ! \n🎯 Pourquoi participer ? \nParce que vous méritez une journée pour : \n\nFaire le point sur les documents clés du métier (et pourquoi ils sont indispensables)\nComprendre la base légale derrière chaque exigence sans jargon inutile\nDécouvrir des exemples concrets\, des trucs\, astuces et retours du terrain\nÉchanger entre professionnels dans un cadre bienveillant\nEt surtout\, passer un bon moment avec des collègues qui parlent le même langage que vous !\n\n📚 Au programme (non exhaustif) : \n\nLes rapports périodiques\nLes documents du service interne\nLe permis de travail\nLes contrôles légaux\nLa liste des travailleurs soumis\, etc.\n\nChaque sujet est exploré avec du sens\, de la pratique\, et des outils immédiatement exploitables. \n👥 Méthodologie \nNotre approche est participative et orientée terrain : \n\nDes intervenants praticiens\, pas des théoriciens\nDes échanges\, des exemples concrets\, des cas vécus\nDes outils testés et approuvés\nUne ambiance détendue mais professionnelle\n\n👤 Pour qui ? \n\nConseiller en prévention\nPersonne de confiance\nMembre de la ligne hiérarchique\nTravailleur ou représentant des travailleurs\nBref\, toute personne impliquée dans la sécurité et le bien-être au travail !\n\n📅 Infos pratiques \n📍 Lieu : Château de Courrière – Rue Bâtis de Corère 6\, 5336 Assesse (parking gratuit)\n🕘 Horaire : de 9h00 à 17h00 (accueil dès 8h30)\n🍴 Repas : inclus\n💰 Prix : 395 € HTVA \n🔔 Inscription directement sur cette page. 👇 \n Envie d’en savoir plus ?\nContactez-nous dès maintenant via info@prolipsi.be !\nParce qu’il n’y a pas de hasard… il n’y a que des rendez-vous.
URL:https://prolipsi.be/evenement/la-documentation-pour-conseiller-en-prevention/
LOCATION:Chateau de Courrière\, Rue Bâtis de Corère 6\, Assesse\, 5336\, Belgique
CATEGORIES:recyclage CP
ATTACH;FMTTYPE=image/png:https://prolipsi.be/wp-content/uploads/2024/08/IMAGE-DOCUMENTATION-POUR-CP.png
ORGANIZER;CN="Prolipsi":MAILTO:info@prolipsi.be
END:VEVENT
END:VCALENDAR