
BEGIN:VCALENDAR
VERSION:2.0
PRODID:-//prolipsi - ECPv6.15.20//NONSGML v1.0//EN
CALSCALE:GREGORIAN
METHOD:PUBLISH
X-WR-CALNAME:prolipsi
X-ORIGINAL-URL:https://prolipsi.be
X-WR-CALDESC:Évènements pour prolipsi
REFRESH-INTERVAL;VALUE=DURATION:PT1H
X-Robots-Tag:noindex
X-PUBLISHED-TTL:PT1H
BEGIN:VTIMEZONE
TZID:Europe/Brussels
BEGIN:DAYLIGHT
TZOFFSETFROM:+0100
TZOFFSETTO:+0200
TZNAME:CEST
DTSTART:20250330T010000
END:DAYLIGHT
BEGIN:STANDARD
TZOFFSETFROM:+0200
TZOFFSETTO:+0100
TZNAME:CET
DTSTART:20251026T010000
END:STANDARD
BEGIN:DAYLIGHT
TZOFFSETFROM:+0100
TZOFFSETTO:+0200
TZNAME:CEST
DTSTART:20260329T010000
END:DAYLIGHT
BEGIN:STANDARD
TZOFFSETFROM:+0200
TZOFFSETTO:+0100
TZNAME:CET
DTSTART:20261025T010000
END:STANDARD
BEGIN:DAYLIGHT
TZOFFSETFROM:+0100
TZOFFSETTO:+0200
TZNAME:CEST
DTSTART:20270328T010000
END:DAYLIGHT
BEGIN:STANDARD
TZOFFSETFROM:+0200
TZOFFSETTO:+0100
TZNAME:CET
DTSTART:20271031T010000
END:STANDARD
END:VTIMEZONE
BEGIN:VEVENT
DTSTART;TZID=Europe/Brussels:20260922T090000
DTEND;TZID=Europe/Brussels:20260922T170000
DTSTAMP:20260420T073112
CREATED:20250925T133444Z
LAST-MODIFIED:20260402T144810Z
UID:10000094-1790067600-1790096400@prolipsi.be
SUMMARY:♻️ Formation Recyclage - Plans de prévention (Global & Annuel) & ⚖️ Contrôles légaux
DESCRIPTION:♻️ Formation Recyclage – Plans de prévention (Global & Annuel) & ⚖️ Contrôles légaux \nUne journée pour renforcer vos pratiques en prévention\nProlipsi® vous invite à une journée de recyclage dédiée aux conseillers en prévention et acteurs de la sécurité.\nDeux thématiques clés\, indispensables au bon fonctionnement du système dynamique de gestion des risques\, seront au cœur de la formation : \n\nLes plans de prévention (Global et Annuel)\nLes contrôles légaux et leur périodicité\n\nPourquoi participer ?\nParce que ces outils sont à la fois basiques et essentiels\, cette journée sera l’occasion de :\n✅ Revoir les fondamentaux réglementaires\n✅ Découvrir (ou redécouvrir) les incontournables d’un plan global et d’un plan d’action annuel\n✅ Clarifier les contrôles légaux : qui fait quoi\, quand et comment ?\n✅ Échanger bonnes pratiques\, astuces et retours d’expérience \nAu programme\n🔹 Matinée \n\nRappel des obligations légales\nAtelier en petits groupes : réalisation d’un plan global de prévention et d’un plan d’action annuel à partir d’un cas fictif présenté par un expert praticien\n\n🔹 Après-midi \n\nExploration des contrôles légaux obligatoires et de leur périodicité\, illustrés par des exemples concrets\nPartages d’expériences\, discussion des bonnes pratiques et trucs & astuces\n\n🎁 Vous repartez avec : \n\nUn modèle de plan (modifiable) prêt à l’emploi\nUne bonne idée des contrôles légaux à mettre en œuvre et comment les trouver facilement.\n\nObjectifs de la journée \n\nComprendre la logique et l’intérêt des plans de prévention\nMaîtriser la liste des contrôles légaux et leurs échéances\nEnrichir vos pratiques grâce aux échanges entre pairs\nVivre une journée constructive\, interactive… et agréable ! 😃\n\nMéthodologie\nUne pédagogie participative et concrète\, animée par des conseillers en prévention expérimentés.\nAu programme : mises en situation\, exercices pratiques\, discussions et échanges interdisciplinaires.\nChez Prolipsi®\, nous adaptons les rythmes et méthodes à vos besoins et à l’actualité réglementaire. \nInfos pratiques\n📍 Lieu : Château de Courrière – Rue Bâtis de Corère 6 – 5336 Assesse\n🕘 Horaire : 9h00 à 17h00 (accueil dès 8h30)\n💰 Prix : 395 € HTVA\n🥗 Repas inclus – Parking gratuit \nPour qui ? \n\nConseillers en prévention\nPersonnes de confiance\nMembres de la ligne hiérarchique\nReprésentants des travailleurs\nTout acteur impliqué dans la prévention\, la sécurité\, le bien-être au travail\n\nInscription \n⚡ Ne tardez pas : chaque journée est une opportunité unique d’apprendre\, d’échanger et de progresser !\n💡 Nous intervenons également dans vos entreprises ou à proximité pour vos Safety Days et formations sur mesure. \nParce que… « Il n’y a pas de hasard\, il n’y a que des rendez-vous. »
URL:https://prolipsi.be/evenement/%e2%99%bb%ef%b8%8f-formation-recyclage-plans-de-prevention-global-annuel-%e2%9a%96%ef%b8%8f-controles-legaux/
LOCATION:Château de Courrière\, Rue Bâtis 6\, Assesse\, 5336\, Belgique
CATEGORIES:recyclage CP
ATTACH;FMTTYPE=image/png:https://prolipsi.be/wp-content/uploads/2025/09/20260922_PA-CTL-LEG.png
ORGANIZER;CN="Prolipsi":MAILTO:info@prolipsi.be
END:VEVENT
BEGIN:VEVENT
DTSTART;TZID=Europe/Brussels:20260924T090000
DTEND;TZID=Europe/Brussels:20260924T170000
DTSTAMP:20260420T073112
CREATED:20260301T083848Z
LAST-MODIFIED:20260323T065457Z
UID:10000088-1790240400-1790269200@prolipsi.be
SUMMARY:♻️🪑📦 Formation – Recyclage : Ergonomie au Travail pour Conseillers en Prévention
DESCRIPTION:♻️🪑📦 Formation – Recyclage : Ergonomie au Travail pour Conseillers en Prévention \nTMS\, manutention manuelle\, ergonomie écran – Une journée pratique et terrain \nVous êtes conseiller en prévention\, membre de la ligne hiérarchique\, représentant des travailleurs\, personne de confiance\, acheteur ou tout autre acteur du bien-être au travail ?Cette formation est faite pour vous !🧭 Un rendez-vous incontournable autour de l’ergonomie appliquée \nProlipsi® vous propose une journée complète pour faire le point sur les enjeux ergonomiques au travail :➡️ Troubles musculo-squelettiques (TMS)➡️ Manutention manuelle➡️ Ergonomie des postes écran \nAvec notre expert praticien en prévention\, plongez dans la législation du Code du Bien-Être au Travail (Livre VIII)\, explorez des cas concrets du terrain\, et repartez avec des outils concrets pour mieux intervenir dans votre entreprise. \n📋 Au programme : \n\nDécryptage du Livre VIII : obligations légales\, points clés\, bonnes pratiques\nÉtudes de cas : TMS\, manutention\, ergonomie écran\nFocus « préventeur terrain » : comment agir efficacement dans l’entreprise\nMises en situation : exercices pratiques\, échanges entre participants\, partages d’expérience\n\n🎯 Objectifs de la journée : \n\nMaîtriser les bases de l’ergonomie et repérer les principaux risques (TMS\, écran\, charges)\nComprendre les obligations légales et les appliquer concrètement\nS’initier à l’analyse de risques en tant que conseiller en prévention\nÉchanger des pratiques utiles\, des outils\, des « trucs et astuces »\nEt bien sûr… passer une journée riche\, stimulante et conviviale ! 😊\n\n🧑‍🏫 Une méthodologie active\, ancrée dans le réelCette formation repose sur une approche : \n\nParticipative : vous êtes acteur de votre apprentissage\nPluridisciplinaire : animée par des professionnels expérimentés\nFlexible : adaptée aux profils et réalités de terrain\nAttendez-vous à des exercices pratiques\, des interactions concrètes\, et des réponses à vos questions spécifiques.\n\n👥 Public cible \n\nConseillers en prévention\nMembres de la ligne hiérarchique\nReprésentants des travailleurs\nResponsables ou collaborateurs des services achats\nPersonnes de confiance\nTravailleurs souhaitant s’impliquer dans la prévention\n\n📌 Informations pratiques📍 Lieu : Château de Courrière – Rue Bâtis de Corère 6\, 5336 Assesse🅿️ Parking gratuit🕘 Horaire : 9h00 à 17h00 (accueil dès 8h30)🍽️ Repas inclus💶 Prix : 395 € HTVA \n✅ Inscription & contactNe manquez pas ce moment clé pour renforcer vos compétences de terrain.👉 info@prolipsi.be Contactez-nous ou inscrivez-vous dès maintenant.Chez Prolipsi\, on ne croit pas au hasard… seulement aux rendez-vous.
URL:https://prolipsi.be/evenement/%e2%99%bb%ef%b8%8f%f0%9f%aa%91%f0%9f%93%a6-formation-recyclage-ergonomie-au-travail-pour-conseillers-en-prevention-2/
LOCATION:Château de Courrière\, Rue Bâtis 6\, Assesse\, 5336\, Belgique
CATEGORIES:recyclage CP
ATTACH;FMTTYPE=image/png:https://prolipsi.be/wp-content/uploads/2025/03/RECY_ERGO-2.png
ORGANIZER;CN="Prolipsi":MAILTO:info@prolipsi.be
END:VEVENT
END:VCALENDAR