
BEGIN:VCALENDAR
VERSION:2.0
PRODID:-//prolipsi - ECPv6.15.20//NONSGML v1.0//EN
CALSCALE:GREGORIAN
METHOD:PUBLISH
X-WR-CALNAME:prolipsi
X-ORIGINAL-URL:https://prolipsi.be
X-WR-CALDESC:Évènements pour prolipsi
REFRESH-INTERVAL;VALUE=DURATION:PT1H
X-Robots-Tag:noindex
X-PUBLISHED-TTL:PT1H
BEGIN:VTIMEZONE
TZID:Europe/Brussels
BEGIN:DAYLIGHT
TZOFFSETFROM:+0100
TZOFFSETTO:+0200
TZNAME:CEST
DTSTART:20240331T010000
END:DAYLIGHT
BEGIN:STANDARD
TZOFFSETFROM:+0200
TZOFFSETTO:+0100
TZNAME:CET
DTSTART:20241027T010000
END:STANDARD
BEGIN:DAYLIGHT
TZOFFSETFROM:+0100
TZOFFSETTO:+0200
TZNAME:CEST
DTSTART:20250330T010000
END:DAYLIGHT
BEGIN:STANDARD
TZOFFSETFROM:+0200
TZOFFSETTO:+0100
TZNAME:CET
DTSTART:20251026T010000
END:STANDARD
BEGIN:DAYLIGHT
TZOFFSETFROM:+0100
TZOFFSETTO:+0200
TZNAME:CEST
DTSTART:20260329T010000
END:DAYLIGHT
BEGIN:STANDARD
TZOFFSETFROM:+0200
TZOFFSETTO:+0100
TZNAME:CET
DTSTART:20261025T010000
END:STANDARD
END:VTIMEZONE
BEGIN:VEVENT
DTSTART;TZID=Europe/Brussels:20251107T090000
DTEND;TZID=Europe/Brussels:20251107T170000
DTSTAMP:20260422T022015
CREATED:20250331T152525Z
LAST-MODIFIED:20250912T072740Z
UID:10000064-1762506000-1762534800@prolipsi.be
SUMMARY:♻️⚡ Formation Recyclage : BA4 – BA5\, Le B-A BA pour les Conseillers en prévention
DESCRIPTION:♻️⚡ BA4 – BA5 : Le B-A BA pour les Conseillers en prévention\nJournée de recyclage centrée sur le rôle du CP\nCeci n’est pas une formation menant à la codification BA4/5 mais un recyclage ciblé ! \nBA4 ? BA5 ? Une obligation… mais aussi un levier de prévention puissant !\nProlipsi® vous invite à une journée de formation pratique et participative pour mieux comprendre\, reconnaître et gérer ces deux habilitations électriques essentielles.\n💡 Avec l’aide d’un expert praticien\, cette journée vous permettra d’explorer le RGIE (Règlement Général sur les Installations Électriques) sous l’angle du conseiller en prévention\, et de renforcer votre rôle dans la mise en œuvre de ces reconnaissances en entreprise. \n🗓️ Ordre du jour\n📚 Rappel réglementaire : panorama des textes légaux\, focus sur l’analyse de risques et les liens avec d’autres obligations\n⚡ Plongée dans les statuts BA4 – BA5 :\n• Distinctions\, compétences attendues\, limites\n• Contenu des formations & critères de reconnaissance\n• 🛠️ Études de cas concrets pour mieux appréhender les responsabilités et les pratiques efficaces \n🎯 Objectifs de la journée\n1. Clarifier les rôles\, limites et compétences liées aux habilitations BA4 & BA5\n2. Identifier le rôle spécifique du CP et de la ligne hiérarchique dans la reconnaissance et la gestion de ces fonctions\n3. Échanger sur les bonnes pratiques\, partager des trucs et astuces\n4. … et surtout\, passer une excellente journée d’apprentissage ! 😊 \n🧩 Une méthodologie active & concrète\n• Formation participative\, portée par des intervenants praticiens\n• Approche pluridisciplinaire\, adaptée aux réalités de terrain\n• Cas pratiques\, discussions\, mises en situation\, interactions continues \n👥 Public cible\nConseillers en prévention\, personnes de confiance\, membres de la ligne hiérarchique\, représentants des travailleurs\, travailleurs impliqués dans des activités à risque électrique… \n📌 Infos pratiques\n📍 Lieu : Château de Courrière – Rue Bâtis de Corère 6\, 5336 Assesse\n🅿️ Parking gratuit\n🕘 Horaire : de 9h00 à 17h00 (accueil dès 8h30)\n🍴 Repas : inclus\n💰 Prix : 395 € HTVA\n🔔 Inscription directement sur cette page. 👇 \nEnvie d’en savoir plus ?\nContactez-nous dès maintenant via info@prolipsi.be !\nChez Prolipsi®\, il n’y a pas de hasard… il n’y a que des rendez-vous.\n→ Et celui-ci est essentiel pour tout bon conseiller en prévention !
URL:https://prolipsi.be/evenement/ba4-ba5-pour-conseiller-en-prevention-le-b-a-ba/
LOCATION:Château de Courrière\, Rue Bâtis 6\, Assesse\, 5336\, Belgique
CATEGORIES:recyclage CP
ATTACH;FMTTYPE=image/png:https://prolipsi.be/wp-content/uploads/2024/05/BA4BA5-POUR-CP.png
ORGANIZER;CN="Prolipsi":MAILTO:info@prolipsi.be
END:VEVENT
END:VCALENDAR