
BEGIN:VCALENDAR
VERSION:2.0
PRODID:-//prolipsi - ECPv6.15.20//NONSGML v1.0//EN
CALSCALE:GREGORIAN
METHOD:PUBLISH
X-ORIGINAL-URL:https://prolipsi.be
X-WR-CALDESC:Évènements pour prolipsi
REFRESH-INTERVAL;VALUE=DURATION:PT1H
X-Robots-Tag:noindex
X-PUBLISHED-TTL:PT1H
BEGIN:VTIMEZONE
TZID:Europe/Brussels
BEGIN:DAYLIGHT
TZOFFSETFROM:+0100
TZOFFSETTO:+0200
TZNAME:CEST
DTSTART:20220327T010000
END:DAYLIGHT
BEGIN:STANDARD
TZOFFSETFROM:+0200
TZOFFSETTO:+0100
TZNAME:CET
DTSTART:20221030T010000
END:STANDARD
BEGIN:DAYLIGHT
TZOFFSETFROM:+0100
TZOFFSETTO:+0200
TZNAME:CEST
DTSTART:20230326T010000
END:DAYLIGHT
BEGIN:STANDARD
TZOFFSETFROM:+0200
TZOFFSETTO:+0100
TZNAME:CET
DTSTART:20231029T010000
END:STANDARD
BEGIN:DAYLIGHT
TZOFFSETFROM:+0100
TZOFFSETTO:+0200
TZNAME:CEST
DTSTART:20240331T010000
END:DAYLIGHT
BEGIN:STANDARD
TZOFFSETFROM:+0200
TZOFFSETTO:+0100
TZNAME:CET
DTSTART:20241027T010000
END:STANDARD
END:VTIMEZONE
BEGIN:VEVENT
DTSTART;TZID=Europe/Brussels:20230324T084500
DTEND;TZID=Europe/Brussels:20230421T161500
DTSTAMP:20260421T074556
CREATED:20231005T062929Z
LAST-MODIFIED:20231212T092103Z
UID:10000008-1679647500-1682093700@prolipsi.be
SUMMARY:Formation personne de confiance
DESCRIPTION:Suite aux derniers changements législatifs et afin de répondre à la demande\, Prolipsi® vous propose un nouveau cycle de formation pour personnes de confiance. \nDurée 5 jours : \n\n30/05/2024\n31/05/2024\n06/06/2024\n14/06/2024\n20/06/2024\n\nObjectifs \nPermettre aux personnes désignées dans les organismes pour occuper dans cette fonction d’acquérir : \n\nles connaissances et les compétences nécessaires pour les personnes de confiance. Ces objectifs répondent aux exigences fixées à l’Art. I.3-58 et à l’annexe I.3-1 du Code.\nle savoir-faire afin d’accomplir leurs missions connaissances et aptitudes exigées pour reconnaitre des états de santé qui menacent la vie de personnes\nPasser de bonnes journées ! 😊\n\nCette formation répond à l’exigence légale reprise au Livre I – Titre 3 du Code du Bien-Etre. \nMéthodologie : \nL’approche recherchée est participative\, pluridisciplinaire avec des intervenants praticiens. \nCette formation suit l’actualité\, fait appel aux personnes ressources compétentes. Les rythmes et les modes d’apprentissage s’adaptent au public et aux circonstances. Prolipsi propose\, selon les thématiques et situations\, des exercices\, des mises en situations\, des discussions\, des interactions. \nPublic cible :  \nLes personnes qui\, dans l’entreprise\, sont désignées pour assurer la fonction de personne de confiance et qui doivent\, endéans les deux années suivant leur désignation\, avoir suivi la formation dédiée.. \nPrérequis \nAucun prérequis n’est nécessaire. \nDescription complète : https://prolipsi.be/project/formation_personne_de_confiance/ \nModalités pratiques : \n\nLieu de la formation : Château de Courrière | Rue Bâtis de Corère 6 | 5336 ASSESSE\nAccès parking (gratuit)\nHoraire: 09h00 à 17h00 (accueil dès 08h30)\nRepas: inclus\n\nN’hésitez pas à vous inscrire et à nous contacter pour en savoir plus sur nos offres de formations car …Il n’y a pas de hasard\, il n’y a que des rendez-vous.
URL:https://prolipsi.be/evenement/formation-personne-de-confiance/
LOCATION:CFR Bouge\, Chaussée de Louvain 510\, Bouge\, 5004\, Belgique
CATEGORIES:personne de confiance
ATTACH;FMTTYPE=image/jpeg:https://prolipsi.be/wp-content/uploads/2022/04/MEDIATION-MED-toa-heftiba-_UIVmIBB3JU-unsplash-1.jpg
ORGANIZER;CN="Prolipsi":MAILTO:info@prolipsi.be
END:VEVENT
BEGIN:VEVENT
DTSTART;TZID=Europe/Brussels:20230331T083000
DTEND;TZID=Europe/Brussels:20230623T170000
DTSTAMP:20260421T074556
CREATED:20221227T081756Z
LAST-MODIFIED:20230324T140920Z
UID:10000012-1680251400-1687539600@prolipsi.be
SUMMARY:Formation Conseiller en prévention connaissances de base (Niveau III)
DESCRIPTION:Prolipsi® vous propose un cycle de formation de conseiller en prévention connaissances de base (niveau III). \nDurée \n6 jours : \n\n31/03/2023\n07/04/2023\n21/04/2023\n28/04/2023\n26/05/2023\n23/06/2023\n\nObjectifs \nLe Code du bien-être au travail impose à chaque entreprise (et donc aussi aux PME) ainsi qu’aux services et administrations publiques\, la désignation d’un conseiller en prévention. \nLe but de cette formation est d’apporter aux participants les connaissances de base en matière de sécurité et santé au travail nécessaires à l’exercice de leur fonction\, conformément à l’Art.II.I-20 du Code du bien-être au travail. \nPasser de bonnes journées ! 😊 \nLe contenu de la formation est visualisable sur : https://prolipsi.be/project/formation_conseiller_en_prevention-base/ \nMéthodologie : \nL’approche recherchée est participative\, pluridisciplinaire avec des intervenants praticiens. \nCette formation suit l’actualité\, fait appel aux personnes ressources compétentes. Les rythmes et les modes d’apprentissage s’adaptent au public et aux circonstances. Prolipsi propose\, selon les thématiques et situations\, des exercices\, des mises en situations\, des discussions\, des interactions. \nPublic cible :  \nCette formation s’adresse à toutes personnes pour lesquelles il n’y a pas d’obligation de suivre une formation de niveau 1 ou de niveau 2 et devant acquérir les bases de la législation concernant la sécurité et le bien-être au travail.Elle est également utile pour les membres de la ligne hiérarchique et les cadres d’organisations plus importantes. \nPrérequis \nAucun prérequis n’est nécessaire. \nModalités pratiques : \n\nLieu de la formation : CFR Bouge | Chaussée de Louvain 510 | 5004 BOUGE\nAccès parking (gratuit) via : Rue Hébar | Première à droite à l’arrière du bâtiment\nHoraire: 08h30 à 17h00 (accueil dès 08h15)\nRepas: inclus\n\nN’hésitez pas à vous inscrire et à nous contacter pour en savoir plus sur nos offres de formations car …Il n’y a pas de hasard\, il n’y a que des rendez-vous.
URL:https://prolipsi.be/evenement/formation-conseiller-en-prevention-connaissances-de-base-niveau-iii/
LOCATION:CFR Bouge\, Chaussée de Louvain 510\, Bouge\, 5004\, Belgique
CATEGORIES:CP connaissances de base
ATTACH;FMTTYPE=image/jpeg:https://prolipsi.be/wp-content/uploads/2022/04/salle-de-cours-scaled.jpg
ORGANIZER;CN="Prolipsi":MAILTO:info@prolipsi.be
END:VEVENT
BEGIN:VEVENT
DTSTART;TZID=Europe/Brussels:20230404T090000
DTEND;TZID=Europe/Brussels:20230404T170000
DTSTAMP:20260421T074556
CREATED:20221224T132752Z
LAST-MODIFIED:20230324T140746Z
UID:10000009-1680598800-1680627600@prolipsi.be
SUMMARY:Recyclage conseiller en prévention
DESCRIPTION:
URL:https://prolipsi.be/evenement/recyclage-conseiller-en-prevention-2/
LOCATION:CFR Bouge\, Chaussée de Louvain 510\, Bouge\, 5004\, Belgique
CATEGORIES:recyclage CP
ATTACH;FMTTYPE=image/png:https://prolipsi.be/wp-content/uploads/2022/10/20221014-RECYCLE-CP-BIS-9.png
ORGANIZER;CN="Prolipsi":MAILTO:info@prolipsi.be
END:VEVENT
BEGIN:VEVENT
DTSTART;TZID=Europe/Brussels:20230427T084500
DTEND;TZID=Europe/Brussels:20230427T161500
DTSTAMP:20260421T074556
CREATED:20230101T154038Z
LAST-MODIFIED:20231006T151535Z
UID:10000013-1682585100-1682612100@prolipsi.be
SUMMARY:Supervision personne de confiance
DESCRIPTION:Prolipsi® vous propose une supervision pour personnes de confiance. \nLa supervision consiste en un échange d’expériences entre personnes de confiance sur des cas pratiques sous la conduite d’un facilitateur. \nLa supervision-type pour personne de confiance est organisée en plusieurs temps. \nLe début de la formation commence par un rappel du cadre réglementaire (les missions des différents acteurs\, des procédures\, …) et de ses dernières évolutions ainsi que des différentes techniques d’entretien. \nPar la suite\, deux ou quatre cas pratiques vont rythmer la journée ou demi-journée (selon les modalités d’organisation du jour). Chaque cas pratique est explicité avec ses spécificités\, procédure(s) associée(s) et bonnes pratiques. Un moment d’échange avec les participants est toujours prévu afin de développer les points de vue. \nLes participants sont préalablement invités à communiquer des thématiques et difficultés spécifiques qu’ils souhaitent aborder. \nPar défaut\, nous aborderons des thématiques issues de nos expériences récentes de Conseiller en prévention aspects psychosociaux\, en incluant les mises à jour et dernières modifications réglementaires\, de campagnes spécifiques et de l’évolution de la recherche et de la jurisprudence. \nPublic cible : personne de confiance \nModalités pratiques : \n\nLieu de la formation : CFR Bouge | Chaussée de Louvain 510 | 5004 BOUGE\nAccès parking (gratuit) via : Rue Hébar | Première à droite à l’arrière du bâtiment\nHoraire: 08h45 à 16h15 (accueil dès 08h15)\n\nN’hésitez pas à vous inscrire et à nous contacter pour en savoir plus sur nos offres de formations car …Il n’y a pas de hasard\, il n’y a que des rendez-vous.
URL:https://prolipsi.be/evenement/supervision-personne-de-confiance-2/
LOCATION:CFR Bouge\, Chaussée de Louvain 510\, Bouge\, 5004\, Belgique
CATEGORIES:supervision
ATTACH;FMTTYPE=image/png:https://prolipsi.be/wp-content/uploads/2022/04/SUPERVISION-1.png
ORGANIZER;CN="Prolipsi":MAILTO:info@prolipsi.be
END:VEVENT
BEGIN:VEVENT
DTSTART;TZID=Europe/Brussels:20230427T090000
DTEND;TZID=Europe/Brussels:20230427T170000
DTSTAMP:20260421T074556
CREATED:20221224T140423Z
LAST-MODIFIED:20230111T160744Z
UID:10000010-1682586000-1682614800@prolipsi.be
SUMMARY:Recyclage conseiller en prévention
DESCRIPTION:Prolipsi® vous propose une journée de recyclage pour les conseillers en prévention. \nA cette occasion\, nous aborderons les thèmes suivants : \nOrdre du jour : \n\nLa reconnaissance comme levier pour améliorer la culture sécurité et la.es réaction.s appropriée.s. avec Jacques GUILLAUME\, TotalEnergies Professeurs Associés.\nPolitique de prévention efficace et système de gestion (management) : concurrence ou intégration ?\nRevue de direction et analyse des risques : fonctionnement\, liens et utilité\n\nObjectifs poursuivis : \n\nComprendre et reconnaitre les pratiques à favoriser pour améliorer votre culture sécurité.\nPar une double approche\, renforcer sa compréhension de la politique de prévention dans un système de management qui se veut de plus en plus intégré.\nDans le cadre du système dynamique de la gestion des risques\, aborder la revue de direction et mieux comprendre son rôle pour en retirer une plus grande valeur ajoutée.\nEchanger les points de vue sur les bonnes pratiques vécues et/ou à développer. Trucs et astuces ;\nPasser une bonne journée ! 😊\n\nMéthodologie : \nL’approche recherchée est participative\, pluridisciplinaire avec des intervenants praticiens. \nCette formation suit l’actualité\, fait appel aux personnes ressources compétentes. Les rythmes et les modes d’apprentissage s’adaptent au public et aux circonstances. Prolipsi propose\, selon les thématiques et situations\, des exercices\, des mises en situations\, des discussions\, des interactions. \nPublic cible : conseiller en prévention\, personne de confiance\, membre de la ligne hiérarchique\, travailleur\, représentant des travailleurs\, … \nModalités pratiques : \n\nLieu de la formation : CFR Bouge | Chaussée de Louvain 510 | 5004 BOUGE\nAccès parking (gratuit) via : Rue Hébar | Première à droite à l’arrière du bâtiment\nHoraire: 09h00 à 17h00 (accueil dès 08h30)\nRepas: inclus\n\nN’hésitez pas à vous inscrire et à nous contacter pour en savoir plus sur nos offres de formations car …Il n’y a pas de hasard\, il n’y a que des rendez-vous.
URL:https://prolipsi.be/evenement/recyclage-de-conseiller-en-prevention/
LOCATION:CFR Bouge\, Chaussée de Louvain 510\, Bouge\, 5004\, Belgique
CATEGORIES:recyclage CP
ATTACH;FMTTYPE=image/png:https://prolipsi.be/wp-content/uploads/2022/12/20221014-RECYCLE-CP-BIS-13.png
ORGANIZER;CN="Prolipsi":MAILTO:info@prolipsi.be
END:VEVENT
END:VCALENDAR