
BEGIN:VCALENDAR
VERSION:2.0
PRODID:-//prolipsi - ECPv6.15.20//NONSGML v1.0//EN
CALSCALE:GREGORIAN
METHOD:PUBLISH
X-ORIGINAL-URL:https://prolipsi.be
X-WR-CALDESC:Évènements pour prolipsi
REFRESH-INTERVAL;VALUE=DURATION:PT1H
X-Robots-Tag:noindex
X-PUBLISHED-TTL:PT1H
BEGIN:VTIMEZONE
TZID:Europe/Brussels
BEGIN:DAYLIGHT
TZOFFSETFROM:+0100
TZOFFSETTO:+0200
TZNAME:CEST
DTSTART:20220327T010000
END:DAYLIGHT
BEGIN:STANDARD
TZOFFSETFROM:+0200
TZOFFSETTO:+0100
TZNAME:CET
DTSTART:20221030T010000
END:STANDARD
BEGIN:DAYLIGHT
TZOFFSETFROM:+0100
TZOFFSETTO:+0200
TZNAME:CEST
DTSTART:20230326T010000
END:DAYLIGHT
BEGIN:STANDARD
TZOFFSETFROM:+0200
TZOFFSETTO:+0100
TZNAME:CET
DTSTART:20231029T010000
END:STANDARD
BEGIN:DAYLIGHT
TZOFFSETFROM:+0100
TZOFFSETTO:+0200
TZNAME:CEST
DTSTART:20240331T010000
END:DAYLIGHT
BEGIN:STANDARD
TZOFFSETFROM:+0200
TZOFFSETTO:+0100
TZNAME:CET
DTSTART:20241027T010000
END:STANDARD
END:VTIMEZONE
BEGIN:VEVENT
DTSTART;TZID=Europe/Brussels:20230331T083000
DTEND;TZID=Europe/Brussels:20230623T170000
DTSTAMP:20260421T041842
CREATED:20221227T081756Z
LAST-MODIFIED:20230324T140920Z
UID:10000012-1680251400-1687539600@prolipsi.be
SUMMARY:Formation Conseiller en prévention connaissances de base (Niveau III)
DESCRIPTION:Prolipsi® vous propose un cycle de formation de conseiller en prévention connaissances de base (niveau III). \nDurée \n6 jours : \n\n31/03/2023\n07/04/2023\n21/04/2023\n28/04/2023\n26/05/2023\n23/06/2023\n\nObjectifs \nLe Code du bien-être au travail impose à chaque entreprise (et donc aussi aux PME) ainsi qu’aux services et administrations publiques\, la désignation d’un conseiller en prévention. \nLe but de cette formation est d’apporter aux participants les connaissances de base en matière de sécurité et santé au travail nécessaires à l’exercice de leur fonction\, conformément à l’Art.II.I-20 du Code du bien-être au travail. \nPasser de bonnes journées ! 😊 \nLe contenu de la formation est visualisable sur : https://prolipsi.be/project/formation_conseiller_en_prevention-base/ \nMéthodologie : \nL’approche recherchée est participative\, pluridisciplinaire avec des intervenants praticiens. \nCette formation suit l’actualité\, fait appel aux personnes ressources compétentes. Les rythmes et les modes d’apprentissage s’adaptent au public et aux circonstances. Prolipsi propose\, selon les thématiques et situations\, des exercices\, des mises en situations\, des discussions\, des interactions. \nPublic cible :  \nCette formation s’adresse à toutes personnes pour lesquelles il n’y a pas d’obligation de suivre une formation de niveau 1 ou de niveau 2 et devant acquérir les bases de la législation concernant la sécurité et le bien-être au travail.Elle est également utile pour les membres de la ligne hiérarchique et les cadres d’organisations plus importantes. \nPrérequis \nAucun prérequis n’est nécessaire. \nModalités pratiques : \n\nLieu de la formation : CFR Bouge | Chaussée de Louvain 510 | 5004 BOUGE\nAccès parking (gratuit) via : Rue Hébar | Première à droite à l’arrière du bâtiment\nHoraire: 08h30 à 17h00 (accueil dès 08h15)\nRepas: inclus\n\nN’hésitez pas à vous inscrire et à nous contacter pour en savoir plus sur nos offres de formations car …Il n’y a pas de hasard\, il n’y a que des rendez-vous.
URL:https://prolipsi.be/evenement/formation-conseiller-en-prevention-connaissances-de-base-niveau-iii/
LOCATION:CFR Bouge\, Chaussée de Louvain 510\, Bouge\, 5004\, Belgique
CATEGORIES:CP connaissances de base
ATTACH;FMTTYPE=image/jpeg:https://prolipsi.be/wp-content/uploads/2022/04/salle-de-cours-scaled.jpg
ORGANIZER;CN="Prolipsi":MAILTO:info@prolipsi.be
END:VEVENT
BEGIN:VEVENT
DTSTART;TZID=Europe/Brussels:20230601T090000
DTEND;TZID=Europe/Brussels:20230601T170000
DTSTAMP:20260421T041842
CREATED:20221224T143441Z
LAST-MODIFIED:20221224T143444Z
UID:10000011-1685610000-1685638800@prolipsi.be
SUMMARY:Recyclage conseiller en prévention
DESCRIPTION:Prolipsi® vous propose une journée de recyclage pour les conseillers en prévention. \nA cette occasion\, nous aborderons les thèmes suivants : \nOrdre du jour : \n\nErgonomie : obligations\, analyse ergonomique de poste de travail\, études de cas et évolutions\nPlan d’urgence interne : de la préparation à la gestion du chaos.\n\nObjectifs poursuivis : \n\nConnaître et comprendre obligations en dans le domaine de l’ergonomie.\nAborder l’analyse ergonomique de poste de travail et clarifier l’approche au regard de l’ergonomie par des études de cas.\nConstruire un Plan d’Urgence Interne au départ d’une situation fictive et procéder de manière structurée à la monter en puissance dans le cas de son activation.\nEchanger les points de vue sur les bonnes pratiques vécues et/ou à développer. Trucs et astuces ;\nPasser une bonne journée ! 😊\n\nMéthodologie : \nL’approche recherchée est participative\, pluridisciplinaire avec des intervenants praticiens. \nCette formation suit l’actualité\, fait appel aux personnes ressources compétentes. Les rythmes et les modes d’apprentissage s’adaptent au public et aux circonstances. Prolipsi propose\, selon les thématiques et situations\, des exercices\, des mises en situations\, des discussions\, des interactions. \nPublic cible : conseiller en prévention\, personne de confiance\, membre de la ligne hiérarchique\, travailleur\, représentant des travailleurs\, … \nModalités pratiques : \n\nLieu de la formation : CFR Bouge | Chaussée de Louvain 510 | 5004 BOUGE\nAccès parking (gratuit) via : Rue Hébar | Première à droite à l’arrière du bâtiment\nHoraire: 09h00 à 17h00 (accueil dès 08h30)\nRepas: inclus\n\nN’hésitez pas à vous inscrire et à nous contacter pour en savoir plus sur nos offres de formations car …Il n’y a pas de hasard\, il n’y a que des rendez-vous.
URL:https://prolipsi.be/evenement/recyclage-conseiller-en-prevention-3/
LOCATION:CFR Bouge\, Chaussée de Louvain 510\, Bouge\, 5004\, Belgique
CATEGORIES:recyclage CP
ATTACH;FMTTYPE=image/png:https://prolipsi.be/wp-content/uploads/2022/12/20221014-RECYCLE-CP-BIS-13.png
ORGANIZER;CN="Prolipsi":MAILTO:info@prolipsi.be
END:VEVENT
BEGIN:VEVENT
DTSTART;TZID=Europe/Brussels:20230616T081500
DTEND;TZID=Europe/Brussels:20230623T164500
DTSTAMP:20260421T041842
CREATED:20230111T083054Z
LAST-MODIFIED:20230218T141020Z
UID:10000014-1686903300-1687538700@prolipsi.be
SUMMARY:Premiers secours - formation de base
DESCRIPTION:Prolipsi® vous propose une formation de base pour premiers secours (titre 5 du livre Ier du Code). \nDurée 2 jours : \n\n16/06/2023\n23/06/2023\n\nObjectifs \nPlusieurs objectifs sont définis dans l’annexe I.5-1 du Code dont : \n\n permettre aux secouristes d’acquérir les connaissances et aptitudes exigées pour reconnaitre des états de santé qui menacent la vie de personnes\n pouvoir appliquer les principes de premiers secours appropriés dans l’attente de l’intervention des services spécialisés\nPasser de bonnes journées ! 😊\n\nCette formation répond à l’exigence légale reprise au Livre I – Titre 5 du Code du Bien-Etre. \nMéthodologie : \nL’approche recherchée est participative\, pluridisciplinaire avec des intervenants praticiens. \nCette formation suit l’actualité\, fait appel aux personnes ressources compétentes. Les rythmes et les modes d’apprentissage s’adaptent au public et aux circonstances. Prolipsi propose\, selon les thématiques et situations\, des exercices\, des mises en situations\, des discussions\, des interactions. \nPublic cible :  \nLes personnes qui\, dans l’entreprise\, sont désignées pour assurer la fonction de personne de confiance et qui doivent\, endéans les deux années suivant leur désignation\, avoir suivi la formation dédiée.Les personnes qui\, dans l’entreprise\, sont chargées d’assurer la fonction de secouriste. \nPrérequis \nAucun prérequis n’est nécessaire. \nDescription complète : https://prolipsi.be/project/formation_secourisme_en_entreprise/  \nModalités pratiques : \n\nLieu de la formation : CFR Bouge | Chaussée de Louvain 510 | 5004 BOUGE\nAccès parking (gratuit) via : Rue Hébar | Première à droite à l’arrière du bâtiment\nHoraire: 08h15 à 16h45 (accueil dès 08h00)\nRepas: inclus\n\nN’hésitez pas à vous inscrire et à nous contacter pour en savoir plus sur nos offres de formations car …Il n’y a pas de hasard\, il n’y a que des rendez-vous.
URL:https://prolipsi.be/evenement/premiers-secours-formation-de-base/
LOCATION:CFR Bouge\, Chaussée de Louvain 510\, Bouge\, 5004\, Belgique
CATEGORIES:premiers secours
ATTACH;FMTTYPE=image/jpeg:https://prolipsi.be/wp-content/uploads/2022/04/AIDMAN-BAG-MED-milan-degraeve-17oHCCMnPqo-unsplash.jpg
ORGANIZER;CN="Prolipsi":MAILTO:info@prolipsi.be
END:VEVENT
END:VCALENDAR