
BEGIN:VCALENDAR
VERSION:2.0
PRODID:-//prolipsi - ECPv6.15.20//NONSGML v1.0//EN
CALSCALE:GREGORIAN
METHOD:PUBLISH
X-WR-CALNAME:prolipsi
X-ORIGINAL-URL:https://prolipsi.be
X-WR-CALDESC:Évènements pour prolipsi
REFRESH-INTERVAL;VALUE=DURATION:PT1H
X-Robots-Tag:noindex
X-PUBLISHED-TTL:PT1H
BEGIN:VTIMEZONE
TZID:Europe/Brussels
BEGIN:DAYLIGHT
TZOFFSETFROM:+0100
TZOFFSETTO:+0200
TZNAME:CEST
DTSTART:20230326T010000
END:DAYLIGHT
BEGIN:STANDARD
TZOFFSETFROM:+0200
TZOFFSETTO:+0100
TZNAME:CET
DTSTART:20231029T010000
END:STANDARD
BEGIN:DAYLIGHT
TZOFFSETFROM:+0100
TZOFFSETTO:+0200
TZNAME:CEST
DTSTART:20240331T010000
END:DAYLIGHT
BEGIN:STANDARD
TZOFFSETFROM:+0200
TZOFFSETTO:+0100
TZNAME:CET
DTSTART:20241027T010000
END:STANDARD
BEGIN:DAYLIGHT
TZOFFSETFROM:+0100
TZOFFSETTO:+0200
TZNAME:CEST
DTSTART:20250330T010000
END:DAYLIGHT
BEGIN:STANDARD
TZOFFSETFROM:+0200
TZOFFSETTO:+0100
TZNAME:CET
DTSTART:20251026T010000
END:STANDARD
END:VTIMEZONE
BEGIN:VEVENT
DTSTART;TZID=Europe/Brussels:20240130T090000
DTEND;TZID=Europe/Brussels:20240130T163000
DTSTAMP:20260420T172140
CREATED:20231017T073204Z
LAST-MODIFIED:20240109T125842Z
UID:10000019-1706605200-1706632200@prolipsi.be
SUMMARY:2023 Sous la loupe - Allons à l'essentiel
DESCRIPTION:Prolipsi® vous propose\, en une journée d’étude\, de passer en revue les nouveautés législatives parues en 2023. \nDes experts nous aideront à mieux appréhender ces changements et nous donneront les moyens de les mettre facilement en pratique. \nCette journée est reconnue comme recyclage pour les conseillers en prévention. \nA cette occasion\, nous aborderons les thèmes suivants : \nOrdre du jour : \n\nLes perturbateurs endocriniens\nLes vêtements de travail\nLe nouveau Règlement « Machines »\nLa fumigation / défumigation\nLa protection contre les mesures préjudiciables dans le cadre de la procédure de plainte\nUn peu de tout avec\, notamment\, la formation pour les chantiers temporaires et mobiles\, les modifications dans le RGIE\, l’amiante\, la sécurité des ascenseurs\,…\n\nPublic cible : conseiller en prévention\, personne de confiance\, membre de la ligne hiérarchique\, travailleur\, représentant des travailleurs\, … \nModalités pratiques : \n\nLieu de la formation : Château de Courrière | Rue Bâtis de Corère 6| 5336 ASSESSE\nAccès parking (gratuit)\nHoraire: 09h00 à 16h30 (accueil dès 08h30)\nRepas: inclus\n\nN’hésitez pas à vous inscrire et à nous contacter pour en savoir plus sur nos offres de formations car …Il n’y a pas de hasard\, il n’y a que des rendez-vous.
URL:https://prolipsi.be/evenement/2023-sous-la-loupe-allons-a-lessentiel/
LOCATION:Chateau de Courrière\, Rue Bâtis de Corère 6\, Assesse\, 5336\, Belgique
CATEGORIES:recyclage CP
ATTACH;FMTTYPE=image/png:https://prolipsi.be/wp-content/uploads/2023/10/Ajoute-un-titre-1080-x-1080-px-657-x-358-px.png
ORGANIZER;CN="Prolipsi":MAILTO:info@prolipsi.be
END:VEVENT
END:VCALENDAR